Workbook
Name SUMME: FinalEF!$I$7

Sheet FinalEF
A1: 2024 FAI F3C/F3N European Championships For Model Helicopters Aabenraa, Denmark 10 – 17 August 2024
A4: COUNTRY _____________________________
A6: POSITION | B6: FAI ID # | C6: Last Name | D6: First Name | E6: (Caller's name) | F6: Entry Fee's (see below) | G6: Sanction Fee (see below) | H6: Banquet (see below) | I6: Total
A7: Team Manager F3C | I7: =SUM(F7:H7) -> 0
A8: F3C Reigning European Champ | I8: =SUM(F8:H8) -> 0
A9: Pilot F3C (1) | I9: =SUM(F9:H9) -> 0
A10: Pilot F3C (2) | I10: =SUM(F10:H10) -> 0
A11: Pilot F3C (3) | I11: =SUM(F11:H11) -> 0
A12: Pilot F3C (Female) | I12: =SUM(F12:H12) -> 0
A13: Pilot F3C (Junior) | I13: =SUM(F13:H13) -> 0
A14: Caller/Helper | I14: =SUM(F14:H14) -> 0
A15: Caller/Helper | I15: =SUM(F15:H15) -> 0
A16: Caller/Helper | I16: =SUM(F16:H16) -> 0
A17: Team Manager F3N | I17: =SUM(F17:H17) -> 0
A18: F3N Reigning European Champ | I18: =SUM(F18:H18) -> 0
... A32: Supporter | I32: =SUM(F32:H32) -> 0
F33: TOTAL | I33: =SUM(I7:I32) -> 0
A38: Official NAC signature and stamp | E38: Date
F39: signed and stamped by NAC shall
E40: Euro | F40: be sent by e-mail no later than April 30th, 2024.
A41: Team Manager F3C or F3N | D41: Column F | E41: 490 | F41: Send to: | G41: Thomas25wiese@icloud.com
A42: Pilot flying F3C | E42: 490
A43: Pilot flying F3N | E43: 490 | F43: Banking Information:
A44: Pilot flying F3C & F3N | E44: 735 | F44: Recipient: MDK First Category Even
A45: Pilot Junior F3C or F3N | E45: 315
A46: Callers calling F3C or F3N | E46: 84 | F46: Bank : SYDBANK A/S
A47: Supporter | E47: 84 | F47: BIC : SYBKDK22
A48: Sanction Fee for Team Manager and Competitor | D48: Column G | E48: 10.6 | F48: IBAN : DK8070450001147188
A49: Banquet | D49: Column H | E49: 52 | F49: Title : F3CN ECH 2024 „Country“
A50: please pay attention to the "Additional personal data" tab, 'which must also be filled in and sent back

Sheet additional personal data
A1: Additional personal data that we can use during the event to send out information if necessary. And to update our Scoring system
A4: COUNTRY _____________________________
A6: POSITION | B6: First name | C6: Last name | D6: Mail | E6: Country Code | F6: Phone number
A7: Team Manager F3C | B7: =FinalEF!D7 -> 0 | C7: =FinalEF!C7 -> 0
A8: F3C Reigning European Champ | B8: =FinalEF!D8 -> 0 | C8: =FinalEF!C8 -> 0
A9: Pilot F3C (1) | B9: =FinalEF!D9 -> 0 | C9: =FinalEF!C9 -> 0
A10: Pilot F3C (2) | B10: =FinalEF!D10 -> 0 | C10: =FinalEF!C10 -> 0
A11: Pilot F3C (3) | B11: =FinalEF!D11 -> 0 | C11: =FinalEF!C11 -> 0
A12: Pilot F3C (Female) | B12: =FinalEF!D12 -> 0 | C12: =FinalEF!C12 -> 0
A13: Pilot F3C (Junior) | B13: =FinalEF!D13 -> 0 | C13: =FinalEF!C13 -> 0
A14: Caller/Helper | B14: =FinalEF!D14 -> 0 | C14: =FinalEF!C14 -> 0
A15: Caller/Helper | B15: =FinalEF!D15 -> 0 | C15: =FinalEF!C15 -> 0
A16: Caller/Helper | B16: =FinalEF!D16 -> 0 | C16: =FinalEF!C16 -> 0
A17: Team Manager F3N | B17: =FinalEF!D17 -> 0 | C17: =FinalEF!C17 -> 0
A18: F3N Reigning European Champ | B18: =FinalEF!D18 -> 0 | C18: =FinalEF!C18 -> 0
... A32: Supporter | B32: =FinalEF!D32 -> 0 | C32: =FinalEF!C32 -> 0
